BEGIN:VCALENDAR
VERSION:2.0
PRODID:-//wp-events-plugin.com//6.6.4.4//EN
BEGIN:VEVENT
UID:186@olqe.com
DTSTART:20250725T020000Z
DTEND:20250725T040000Z
DTSTAMP:20250607T093808Z
URL:https://olqe.com/events/head-vi-hong-kong-constitutional-law-l6-2/
SUMMARY:Head VI Hong Kong Constitutional Law L6
DESCRIPTION:
CATEGORIES:2025 Head VI
END:VEVENT
END:VCALENDAR