BEGIN:VCALENDAR
VERSION:2.0
PRODID:-//wp-events-plugin.com//6.6.4.4//EN
BEGIN:VEVENT
UID:172@olqe.com
DTSTART:20250620T020000Z
DTEND:20250620T040000Z
DTSTAMP:20250607T093035Z
URL:https://olqe.com/events/head-iv-professional-conduct-l4-2/
SUMMARY:Head IV Professional Conduct L4
DESCRIPTION:
CATEGORIES:2025 Head IV
END:VEVENT
END:VCALENDAR