BEGIN:VCALENDAR
VERSION:2.0
PRODID:-//wp-events-plugin.com//6.6.4.4//EN
BEGIN:VEVENT
UID:171@olqe.com
DTSTART:20250617T020000Z
DTEND:20250617T040000Z
DTSTAMP:20250607T092956Z
URL:https://olqe.com/events/head-iv-professional-conduct-l3-2/
SUMMARY:Head IV Professional Conduct L3
DESCRIPTION:
CATEGORIES:2025 Head IV
END:VEVENT
END:VCALENDAR