BEGIN:VCALENDAR
VERSION:2.0
PRODID:-//wp-events-plugin.com//6.6.4.4//EN
BEGIN:VEVENT
UID:170@olqe.com
DTSTART:20250613T020000Z
DTEND:20250613T040000Z
DTSTAMP:20250607T092911Z
URL:https://olqe.com/events/head-iv-professional-conduct-l2-2/
SUMMARY:Head IV Professional Conduct L2
DESCRIPTION:
CATEGORIES:2025 Head IV
END:VEVENT
END:VCALENDAR