BEGIN:VCALENDAR
VERSION:2.0
PRODID:-//wp-events-plugin.com//6.6.4.4//EN
BEGIN:VEVENT
UID:175@olqe.com
DTSTART:20250819T020000Z
DTEND:20250819T040000Z
DTSTAMP:20250607T094247Z
URL:https://olqe.com/events/head-iv-accounts-l7-2/
SUMMARY:Head IV Accounts L7
DESCRIPTION:
CATEGORIES:2025 Head IV
END:VEVENT
END:VCALENDAR