BEGIN:VCALENDAR
VERSION:2.0
PRODID:-//wp-events-plugin.com//6.6.4.4//EN
BEGIN:VEVENT
UID:154@olqe.com
DTSTART:20250724T020000Z
DTEND:20250724T040000Z
DTSTAMP:20250607T093755Z
URL:https://olqe.com/events/head-iii-commercial-company-law-l9-2/
SUMMARY:Head III Commercial & Company Law L9
DESCRIPTION:Stefan
CATEGORIES:2025 Head III
END:VEVENT
END:VCALENDAR