BEGIN:VCALENDAR
VERSION:2.0
PRODID:-//wp-events-plugin.com//6.6.4.4//EN
BEGIN:VEVENT
UID:151@olqe.com
DTSTART:20250712T020000Z
DTEND:20250712T040000Z
DTSTAMP:20250607T093559Z
URL:https://olqe.com/events/head-iii-commercial-company-law-l6-2/
SUMMARY:Head III Commercial & Company Law L6
DESCRIPTION:Stefan
CATEGORIES:2025 Head III
END:VEVENT
END:VCALENDAR