BEGIN:VCALENDAR
VERSION:2.0
PRODID:-//wp-events-plugin.com//6.6.4.4//EN
BEGIN:VEVENT
UID:148@olqe.com
DTSTART:20250703T020000Z
DTEND:20250703T040000Z
DTSTAMP:20250607T093339Z
URL:https://olqe.com/events/head-iii-commercial-company-law-l3-2/
SUMMARY:Head III Commercial & Company Law L3
DESCRIPTION:Stefan
CATEGORIES:2025 Head III
END:VEVENT
END:VCALENDAR