BEGIN:VCALENDAR
VERSION:2.0
PRODID:-//wp-events-plugin.com//6.6.4.4//EN
BEGIN:VEVENT
UID:146@olqe.com
DTSTART:20250626T020000Z
DTEND:20250626T040000Z
DTSTAMP:20250607T093220Z
URL:https://olqe.com/events/head-iii-commercial-company-law-l1-2/
SUMMARY:Head III Commercial & Company Law L1
DESCRIPTION:Stefan
CATEGORIES:2025 Head III
END:VEVENT
END:VCALENDAR