BEGIN:VCALENDAR
VERSION:2.0
PRODID:-//wp-events-plugin.com//6.6.4.4//EN
BEGIN:VEVENT
UID:141@olqe.com
DTSTART:20250729T020000Z
DTEND:20250729T040000Z
DTSTAMP:20250607T093830Z
URL:https://olqe.com/events/head-ii-revision-session-r3/
SUMMARY:Head II Revision Session R3
DESCRIPTION:Criminal
CATEGORIES:2025 Head II
END:VEVENT
END:VCALENDAR