BEGIN:VCALENDAR
VERSION:2.0
PRODID:-//wp-events-plugin.com//6.6.4.4//EN
BEGIN:VEVENT
UID:139@olqe.com
DTSTART:20250715T020000Z
DTEND:20250715T040000Z
DTSTAMP:20250607T093632Z
URL:https://olqe.com/events/head-ii-revision-session-r1/
SUMMARY:Head II Revision Session R1
DESCRIPTION:Criminal
CATEGORIES:2025 Head II
END:VEVENT
END:VCALENDAR