BEGIN:VCALENDAR
VERSION:2.0
PRODID:-//wp-events-plugin.com//6.6.4.4//EN
BEGIN:VEVENT
UID:130@olqe.com
DTSTART:20250619T020000Z
DTEND:20250619T040000Z
DTSTAMP:20250607T093022Z
URL:https://olqe.com/events/head-ii-criminal-procedure-l7/
SUMMARY:Head II Criminal Procedure L7
DESCRIPTION:
CATEGORIES:2025 Head II
END:VEVENT
END:VCALENDAR