BEGIN:VCALENDAR
VERSION:2.0
PRODID:-//wp-events-plugin.com//6.6.4.4//EN
BEGIN:VEVENT
UID:126@olqe.com
DTSTART:20250612T020000Z
DTEND:20250612T040000Z
DTSTAMP:20250607T092852Z
URL:https://olqe.com/events/head-ii-criminal-procedure-l3/
SUMMARY:Head II Criminal Procedure L3
DESCRIPTION:
CATEGORIES:2025 Head II
END:VEVENT
END:VCALENDAR