BEGIN:VCALENDAR
VERSION:2.0
PRODID:-//wp-events-plugin.com//6.6.4.4//EN
BEGIN:VEVENT
UID:137@olqe.com
DTSTART:20250708T020000Z
DTEND:20250708T040000Z
DTSTAMP:20250607T093505Z
URL:https://olqe.com/events/head-ii-criminal-procedure-l14/
SUMMARY:Head II Criminal Procedure L14
DESCRIPTION:
CATEGORIES:2025 Head II
END:VEVENT
END:VCALENDAR