BEGIN:VCALENDAR
VERSION:2.0
PRODID:-//wp-events-plugin.com//6.6.4.4//EN
BEGIN:VEVENT
UID:132@olqe.com
DTSTART:20250623T020000Z
DTEND:20250623T040000Z
DTSTAMP:20250607T093116Z
URL:https://olqe.com/events/head-ii-civil-procedure-l9/
SUMMARY:Head II Civil Procedure L9
DESCRIPTION:
CATEGORIES:2025 Head II
END:VEVENT
END:VCALENDAR