BEGIN:VCALENDAR
VERSION:2.0
PRODID:-//wp-events-plugin.com//6.6.4.4//EN
BEGIN:VEVENT
UID:129@olqe.com
DTSTART:20250618T020000Z
DTEND:20250618T040000Z
DTSTAMP:20250607T093008Z
URL:https://olqe.com/events/head-ii-civil-procedure-l6-2/
SUMMARY:Head II Civil Procedure L6
DESCRIPTION:
CATEGORIES:2025 Head II
END:VEVENT
END:VCALENDAR