BEGIN:VCALENDAR
VERSION:2.0
PRODID:-//wp-events-plugin.com//6.6.4.4//EN
BEGIN:VEVENT
UID:128@olqe.com
DTSTART:20250616T020000Z
DTEND:20250616T040000Z
DTSTAMP:20250607T092941Z
URL:https://olqe.com/events/head-ii-civil-procedure-l5-2/
SUMMARY:Head II Civil Procedure L5
DESCRIPTION:
CATEGORIES:2025 Head II
END:VEVENT
END:VCALENDAR