BEGIN:VCALENDAR
VERSION:2.0
PRODID:-//wp-events-plugin.com//6.6.4.4//EN
BEGIN:VEVENT
UID:125@olqe.com
DTSTART:20250611T020000Z
DTEND:20250611T040000Z
DTSTAMP:20250607T092830Z
URL:https://olqe.com/events/head-ii-civil-procedure-l2/
SUMMARY:Head II Civil Procedure L2
DESCRIPTION:
CATEGORIES:2025 Head II
END:VEVENT
END:VCALENDAR