BEGIN:VCALENDAR
VERSION:2.0
PRODID:-//wp-events-plugin.com//6.6.4.4//EN
BEGIN:VEVENT
UID:138@olqe.com
DTSTART:20250709T020000Z
DTEND:20250709T040000Z
DTSTAMP:20250607T093517Z
URL:https://olqe.com/events/head-ii-civil-procedure-l15/
SUMMARY:Head II Civil Procedure L15
DESCRIPTION:
CATEGORIES:2025 Head II
END:VEVENT
END:VCALENDAR