BEGIN:VCALENDAR
VERSION:2.0
PRODID:-//wp-events-plugin.com//6.6.4.4//EN
BEGIN:VEVENT
UID:136@olqe.com
DTSTART:20250707T020000Z
DTEND:20250707T040000Z
DTSTAMP:20250607T093454Z
URL:https://olqe.com/events/head-ii-civil-procedure-l13/
SUMMARY:Head II Civil Procedure L13
DESCRIPTION:
CATEGORIES:2025 Head II
END:VEVENT
END:VCALENDAR