BEGIN:VCALENDAR
VERSION:2.0
PRODID:-//wp-events-plugin.com//6.6.4.4//EN
BEGIN:VEVENT
UID:110@olqe.com
DTSTART:20250816T020000Z
DTEND:20250816T040000Z
DTSTAMP:20250607T094223Z
URL:https://olqe.com/events/head-i-conveyancing-l7-2/
SUMMARY:Head I Conveyancing L7
DESCRIPTION:
CATEGORIES:2025 Head I
END:VEVENT
END:VCALENDAR