BEGIN:VCALENDAR
VERSION:2.0
PRODID:-//wp-events-plugin.com//6.6.4.4//EN
BEGIN:VEVENT
UID:109@olqe.com
DTSTART:20250813T020000Z
DTEND:20250813T040000Z
DTSTAMP:20250607T094136Z
URL:https://olqe.com/events/head-i-conveyancing-l6-2/
SUMMARY:Head I Conveyancing L6
DESCRIPTION:
CATEGORIES:2025 Head I
END:VEVENT
END:VCALENDAR